BEGIN:VCALENDAR
VERSION:2.0
PRODID:-//Newbury Public Library (NH) - ECPv6.15.20//NONSGML v1.0//EN
CALSCALE:GREGORIAN
METHOD:PUBLISH
X-WR-CALNAME:Newbury Public Library (NH)
X-ORIGINAL-URL:https://newburynhlibrary.net
X-WR-CALDESC:Events for Newbury Public Library (NH)
REFRESH-INTERVAL;VALUE=DURATION:PT1H
X-Robots-Tag:noindex
X-PUBLISHED-TTL:PT1H
BEGIN:VTIMEZONE
TZID:America/New_York
BEGIN:DAYLIGHT
TZOFFSETFROM:-0500
TZOFFSETTO:-0400
TZNAME:EDT
DTSTART:20250309T070000
END:DAYLIGHT
BEGIN:STANDARD
TZOFFSETFROM:-0400
TZOFFSETTO:-0500
TZNAME:EST
DTSTART:20251102T060000
END:STANDARD
BEGIN:DAYLIGHT
TZOFFSETFROM:-0500
TZOFFSETTO:-0400
TZNAME:EDT
DTSTART:20260308T070000
END:DAYLIGHT
BEGIN:STANDARD
TZOFFSETFROM:-0400
TZOFFSETTO:-0500
TZNAME:EST
DTSTART:20261101T060000
END:STANDARD
BEGIN:DAYLIGHT
TZOFFSETFROM:-0500
TZOFFSETTO:-0400
TZNAME:EDT
DTSTART:20270314T070000
END:DAYLIGHT
BEGIN:STANDARD
TZOFFSETFROM:-0400
TZOFFSETTO:-0500
TZNAME:EST
DTSTART:20271107T060000
END:STANDARD
END:VTIMEZONE
BEGIN:VEVENT
DTSTART;TZID=America/New_York:20261115T153000
DTEND;TZID=America/New_York:20261115T170000
DTSTAMP:20260421T150243
CREATED:20260420T224603Z
LAST-MODIFIED:20260420T224603Z
UID:19633-1794756600-1794762000@newburynhlibrary.net
SUMMARY:Sunday Book Discussion - November
DESCRIPTION:Join us for Sunday book discussion. Copies are available at the library. All are welcome to join!
URL:https://newburynhlibrary.net/event/sunday-book-discussion-november/
ATTACH;FMTTYPE=image/png:https://newburynhlibrary.net/wp-content/uploads/2026/04/book-Discussion-1.png
END:VEVENT
BEGIN:VEVENT
DTSTART;TZID=America/New_York:20261220T153000
DTEND;TZID=America/New_York:20261220T170000
DTSTAMP:20260421T150243
CREATED:20260420T224721Z
LAST-MODIFIED:20260420T224721Z
UID:19635-1797780600-1797786000@newburynhlibrary.net
SUMMARY:Sunday Book Discussion - December
DESCRIPTION:Join us for Sunday book discussion. Copies are available at the library. All are welcome to join!
URL:https://newburynhlibrary.net/event/sunday-book-discussion-december/
LOCATION:Newbury Library\, 933 Route 103\, Newbury\, NH\, 03255\, United States
ATTACH;FMTTYPE=image/png:https://newburynhlibrary.net/wp-content/uploads/2026/04/book-Discussion-1.png
END:VEVENT
END:VCALENDAR