BEGIN:VCALENDAR
VERSION:2.0
PRODID:-//Newbury Public Library (NH) - ECPv6.15.20//NONSGML v1.0//EN
CALSCALE:GREGORIAN
METHOD:PUBLISH
X-WR-CALNAME:Newbury Public Library (NH)
X-ORIGINAL-URL:https://newburynhlibrary.net
X-WR-CALDESC:Events for Newbury Public Library (NH)
REFRESH-INTERVAL;VALUE=DURATION:PT1H
X-Robots-Tag:noindex
X-PUBLISHED-TTL:PT1H
BEGIN:VTIMEZONE
TZID:America/New_York
BEGIN:DAYLIGHT
TZOFFSETFROM:-0500
TZOFFSETTO:-0400
TZNAME:EDT
DTSTART:20250309T070000
END:DAYLIGHT
BEGIN:STANDARD
TZOFFSETFROM:-0400
TZOFFSETTO:-0500
TZNAME:EST
DTSTART:20251102T060000
END:STANDARD
BEGIN:DAYLIGHT
TZOFFSETFROM:-0500
TZOFFSETTO:-0400
TZNAME:EDT
DTSTART:20260308T070000
END:DAYLIGHT
BEGIN:STANDARD
TZOFFSETFROM:-0400
TZOFFSETTO:-0500
TZNAME:EST
DTSTART:20261101T060000
END:STANDARD
BEGIN:DAYLIGHT
TZOFFSETFROM:-0500
TZOFFSETTO:-0400
TZNAME:EDT
DTSTART:20270314T070000
END:DAYLIGHT
BEGIN:STANDARD
TZOFFSETFROM:-0400
TZOFFSETTO:-0500
TZNAME:EST
DTSTART:20271107T060000
END:STANDARD
END:VTIMEZONE
BEGIN:VEVENT
DTSTART;TZID=America/New_York:20260719T153000
DTEND;TZID=America/New_York:20260719T170000
DTSTAMP:20260421T044941
CREATED:20260420T224052Z
LAST-MODIFIED:20260420T224052Z
UID:19624-1784475000-1784480400@newburynhlibrary.net
SUMMARY:Sunday Book Discussion-July
DESCRIPTION:Join us for Sunday book discussion. Copies are available at the library. All are welcome to join!
URL:https://newburynhlibrary.net/event/sunday-book-discussion-july/
LOCATION:Newbury Library\, 933 Route 103\, Newbury\, NH\, 03255\, United States
ATTACH;FMTTYPE=image/png:https://newburynhlibrary.net/wp-content/uploads/2026/04/book-Discussion-1.png
END:VEVENT
BEGIN:VEVENT
DTSTART;TZID=America/New_York:20260721T140000
DTEND;TZID=America/New_York:20260721T150000
DTSTAMP:20260421T044941
CREATED:20260121T204958Z
LAST-MODIFIED:20260420T221002Z
UID:19209-1784642400-1784646000@newburynhlibrary.net
SUMMARY:Summer Reading: Juggler and Comedian Bryson Lang
DESCRIPTION:Bryson’s audiences will see a likable\, energetic personality performing inventive and clever routines that mix comedy\, audience participation\, ball spinning\, ball bouncing\, fire-juggling\, well-crafted timing\, sharp sickles\, huge spinning bouncing rings\, giant Beach Balls\, improv\, glo-in-the-dark objects and always a few surprises. Come see why Bryson is\, “The Cure for the Common Show”!
URL:https://newburynhlibrary.net/event/summer-reading-juggler-and-comedian-bryson-lang/
LOCATION:NH
CATEGORIES:Children's
ATTACH;FMTTYPE=image/png:https://newburynhlibrary.net/wp-content/uploads/2026/01/Juggler.png
END:VEVENT
BEGIN:VEVENT
DTSTART;TZID=America/New_York:20260726T160000
DTEND;TZID=America/New_York:20260726T170000
DTSTAMP:20260421T044941
CREATED:20260118T185134Z
LAST-MODIFIED:20260420T221009Z
UID:19175-1785081600-1785085200@newburynhlibrary.net
SUMMARY:Who Was John Stark?
DESCRIPTION:While many are familiar with the state motto “live free or die\,” few might know about the man\, General John Stark\, who uttered these words. In this presentation\, George Morrison reveals the man – a ransomed captive\, Ranger officer\, road-builder\, lumberman\, husband and father\, repeatedly called-on to serve but often clashing with authority — whose phrase has become synonymous with our state.  \nA NH Humanities to Go Presentation
URL:https://newburynhlibrary.net/event/who-was-john-stark/
LOCATION:Newbury Center Meeting House
CATEGORIES:Adult
ATTACH;FMTTYPE=image/jpeg:https://newburynhlibrary.net/wp-content/uploads/2026/01/General_John_Stark_-_Ulysses_Tenney_c1790_Manchester_Hist_Assoc_MHA_316_crop-scaled.jpg
END:VEVENT
BEGIN:VEVENT
DTSTART;TZID=America/New_York:20260801T103000
DTEND;TZID=America/New_York:20260801T113000
DTSTAMP:20260421T044941
CREATED:20260118T190642Z
LAST-MODIFIED:20260420T221014Z
UID:19184-1785580200-1785583800@newburynhlibrary.net
SUMMARY:Old Time Fun and Entertainment at Sunapee
DESCRIPTION:Presented by John Greenwood. A joint program with the Newbury Historical Society.
URL:https://newburynhlibrary.net/event/old-time-fun-and-entertainment-at-sunapee/
LOCATION:Newbury Library\, 933 Route 103\, Newbury\, NH\, 03255\, United States
CATEGORIES:Adult
ATTACH;FMTTYPE=image/png:https://newburynhlibrary.net/wp-content/uploads/2026/01/Untitled-design-4.png
END:VEVENT
BEGIN:VEVENT
DTSTART;TZID=America/New_York:20260816T153000
DTEND;TZID=America/New_York:20260816T170000
DTSTAMP:20260421T044941
CREATED:20260420T224241Z
LAST-MODIFIED:20260420T224241Z
UID:19626-1786894200-1786899600@newburynhlibrary.net
SUMMARY:Sunday Book Discussion - August
DESCRIPTION:Join us for Sunday book discussion. Copies are available at the library. All are welcome to join!
URL:https://newburynhlibrary.net/event/sunday-book-discussion-august/
LOCATION:Newbury Library\, 933 Route 103\, Newbury\, NH\, 03255\, United States
ATTACH;FMTTYPE=image/png:https://newburynhlibrary.net/wp-content/uploads/2026/04/book-Discussion-1.png
END:VEVENT
BEGIN:VEVENT
DTSTART;TZID=America/New_York:20260822T103000
DTEND;TZID=America/New_York:20260822T113000
DTSTAMP:20260421T044941
CREATED:20260118T190024Z
LAST-MODIFIED:20260420T221019Z
UID:19178-1787394600-1787398200@newburynhlibrary.net
SUMMARY:Newbury Patriots in the American Revolution
DESCRIPTION:Presented by Sandy Warde of the Newbury Historical Society. At Center Meeting House.
URL:https://newburynhlibrary.net/event/newbury-patriots-in-the-american-revolution/
LOCATION:Newbury Center Meeting House
CATEGORIES:Adult
ATTACH;FMTTYPE=image/png:https://newburynhlibrary.net/wp-content/uploads/2026/01/Untitled-design-1.png
END:VEVENT
BEGIN:VEVENT
DTSTART;TZID=America/New_York:20260919T103000
DTEND;TZID=America/New_York:20260919T113000
DTSTAMP:20260421T044941
CREATED:20260118T190303Z
LAST-MODIFIED:20260420T221023Z
UID:19181-1789813800-1789817400@newburynhlibrary.net
SUMMARY:Old Province Rd/Penacook Trail
DESCRIPTION:presented by Deane Geddes of Newbury Historical.   At Center Meeting House.
URL:https://newburynhlibrary.net/event/old-province-rd-penacook-trail/
LOCATION:Newbury Library\, 933 Route 103\, Newbury\, NH\, 03255\, United States
CATEGORIES:Adult
ATTACH;FMTTYPE=image/webp:https://newburynhlibrary.net/wp-content/uploads/2026/01/Photo756816-e1770156638195.webp
END:VEVENT
BEGIN:VEVENT
DTSTART;TZID=America/New_York:20260920T153000
DTEND;TZID=America/New_York:20260920T170000
DTSTAMP:20260421T044941
CREATED:20260420T224355Z
LAST-MODIFIED:20260420T224355Z
UID:19628-1789918200-1789923600@newburynhlibrary.net
SUMMARY:Sunday Book Discussion - September
DESCRIPTION:Join us for Sunday book discussion. Copies are available at the library. All are welcome to join!
URL:https://newburynhlibrary.net/event/sunday-book-discussion-september/
LOCATION:Newbury Library\, 933 Route 103\, Newbury\, NH\, 03255\, United States
ATTACH;FMTTYPE=image/png:https://newburynhlibrary.net/wp-content/uploads/2026/04/book-Discussion-1-1.png
END:VEVENT
BEGIN:VEVENT
DTSTART;TZID=America/New_York:20261018T153000
DTEND;TZID=America/New_York:20261018T170000
DTSTAMP:20260421T044942
CREATED:20260420T224449Z
LAST-MODIFIED:20260420T224449Z
UID:19631-1792337400-1792342800@newburynhlibrary.net
SUMMARY:Sunday Book Discussion - October
DESCRIPTION:Join us for Sunday book discussion. Copies are available at the library. All are welcome to join!
URL:https://newburynhlibrary.net/event/sunday-book-discussion-october/
LOCATION:Newbury Library\, 933 Route 103\, Newbury\, NH\, 03255\, United States
ATTACH;FMTTYPE=image/png:https://newburynhlibrary.net/wp-content/uploads/2026/04/book-Discussion-1-1.png
END:VEVENT
BEGIN:VEVENT
DTSTART;TZID=America/New_York:20261115T153000
DTEND;TZID=America/New_York:20261115T170000
DTSTAMP:20260421T044942
CREATED:20260420T224603Z
LAST-MODIFIED:20260420T224603Z
UID:19633-1794756600-1794762000@newburynhlibrary.net
SUMMARY:Sunday Book Discussion - November
DESCRIPTION:Join us for Sunday book discussion. Copies are available at the library. All are welcome to join!
URL:https://newburynhlibrary.net/event/sunday-book-discussion-november/
LOCATION:NH
ATTACH;FMTTYPE=image/png:https://newburynhlibrary.net/wp-content/uploads/2026/04/book-Discussion-1.png
END:VEVENT
BEGIN:VEVENT
DTSTART;TZID=America/New_York:20261220T153000
DTEND;TZID=America/New_York:20261220T170000
DTSTAMP:20260421T044942
CREATED:20260420T224721Z
LAST-MODIFIED:20260420T224721Z
UID:19635-1797780600-1797786000@newburynhlibrary.net
SUMMARY:Sunday Book Discussion - December
DESCRIPTION:Join us for Sunday book discussion. Copies are available at the library. All are welcome to join!
URL:https://newburynhlibrary.net/event/sunday-book-discussion-december/
LOCATION:Newbury Library\, 933 Route 103\, Newbury\, NH\, 03255\, United States
ATTACH;FMTTYPE=image/png:https://newburynhlibrary.net/wp-content/uploads/2026/04/book-Discussion-1.png
END:VEVENT
END:VCALENDAR