BEGIN:VCALENDAR
VERSION:2.0
PRODID:-//Newbury Public Library (NH) - ECPv6.15.20//NONSGML v1.0//EN
CALSCALE:GREGORIAN
METHOD:PUBLISH
X-WR-CALNAME:Newbury Public Library (NH)
X-ORIGINAL-URL:https://newburynhlibrary.net
X-WR-CALDESC:Events for Newbury Public Library (NH)
REFRESH-INTERVAL;VALUE=DURATION:PT1H
X-Robots-Tag:noindex
X-PUBLISHED-TTL:PT1H
BEGIN:VTIMEZONE
TZID:America/New_York
BEGIN:DAYLIGHT
TZOFFSETFROM:-0500
TZOFFSETTO:-0400
TZNAME:EDT
DTSTART:20240310T070000
END:DAYLIGHT
BEGIN:STANDARD
TZOFFSETFROM:-0400
TZOFFSETTO:-0500
TZNAME:EST
DTSTART:20241103T060000
END:STANDARD
BEGIN:DAYLIGHT
TZOFFSETFROM:-0500
TZOFFSETTO:-0400
TZNAME:EDT
DTSTART:20250309T070000
END:DAYLIGHT
BEGIN:STANDARD
TZOFFSETFROM:-0400
TZOFFSETTO:-0500
TZNAME:EST
DTSTART:20251102T060000
END:STANDARD
BEGIN:DAYLIGHT
TZOFFSETFROM:-0500
TZOFFSETTO:-0400
TZNAME:EDT
DTSTART:20260308T070000
END:DAYLIGHT
BEGIN:STANDARD
TZOFFSETFROM:-0400
TZOFFSETTO:-0500
TZNAME:EST
DTSTART:20261101T060000
END:STANDARD
END:VTIMEZONE
BEGIN:VEVENT
DTSTART;TZID=America/New_York:20250501T100000
DTEND;TZID=America/New_York:20250501T100000
DTSTAMP:20260422T131117
CREATED:20250429T165316Z
LAST-MODIFIED:20250429T165316Z
UID:18255-1746093600-1746093600@newburynhlibrary.net
SUMMARY:Storytime
DESCRIPTION:Join us every Thursday for Storytime! we read books\, sing songs\, play games and try fun crafts. This Storytime is designed for toddlers and preschoolers and their families\, and all are welcome\, including babies!
URL:https://newburynhlibrary.net/event/storytime-29/
LOCATION:Newbury Library\, 933 Route 103\, Newbury\, NH\, 03255\, United States
ATTACH;FMTTYPE=image/png:https://newburynhlibrary.net/wp-content/uploads/2025/04/Copy-of-Bird-Walk.png
END:VEVENT
BEGIN:VEVENT
DTSTART;TZID=America/New_York:20250429T133000
DTEND;TZID=America/New_York:20250429T150000
DTSTAMP:20260422T131117
CREATED:20250309T201523Z
LAST-MODIFIED:20250309T201523Z
UID:18072-1745933400-1745938800@newburynhlibrary.net
SUMMARY:Movie: The Wild Robot
DESCRIPTION:We will be showing a movie during April vacation: The Wild Robot. This family-friendly film is open to all.
URL:https://newburynhlibrary.net/event/movie-the-wild-robot/
LOCATION:Newbury Library\, 933 Route 103\, Newbury\, NH\, 03255\, United States
ATTACH;FMTTYPE=image/png:https://newburynhlibrary.net/wp-content/uploads/2025/03/Afternoon.png
END:VEVENT
BEGIN:VEVENT
DTSTART;TZID=America/New_York:20250427T153000
DTEND;TZID=America/New_York:20250427T170000
DTSTAMP:20260422T131117
CREATED:20241226T184602Z
LAST-MODIFIED:20250406T190337Z
UID:17892-1745767800-1745773200@newburynhlibrary.net
SUMMARY:Book Discussion
DESCRIPTION:Copies are available at the library and this group is open to all!
URL:https://newburynhlibrary.net/event/book-discussion-10/
LOCATION:Newbury Library\, 933 Route 103\, Newbury\, NH\, 03255\, United States
ATTACH;FMTTYPE=image/png:https://newburynhlibrary.net/wp-content/uploads/2024/12/Book-Discussion.png
END:VEVENT
BEGIN:VEVENT
DTSTART;TZID=America/New_York:20250426T110000
DTEND;TZID=America/New_York:20250426T120000
DTSTAMP:20260422T131117
CREATED:20250402T145528Z
LAST-MODIFIED:20250402T145528Z
UID:18113-1745665200-1745668800@newburynhlibrary.net
SUMMARY:Decoupage Birdhouses
DESCRIPTION:Sign-up to make decoupage birdhouses. This adult craft is free\, but sign-up is required.
URL:https://newburynhlibrary.net/event/decoupage-birdhouses/
LOCATION:Newbury Library\, 933 Route 103\, Newbury\, NH\, 03255\, United States
ATTACH;FMTTYPE=image/png:https://newburynhlibrary.net/wp-content/uploads/2025/04/birdhouses-Instagram-Post.png
END:VEVENT
END:VCALENDAR