BEGIN:VCALENDAR
VERSION:2.0
PRODID:-//Newbury Public Library (NH) - ECPv6.15.20//NONSGML v1.0//EN
CALSCALE:GREGORIAN
METHOD:PUBLISH
X-WR-CALNAME:Newbury Public Library (NH)
X-ORIGINAL-URL:https://newburynhlibrary.net
X-WR-CALDESC:Events for Newbury Public Library (NH)
REFRESH-INTERVAL;VALUE=DURATION:PT1H
X-Robots-Tag:noindex
X-PUBLISHED-TTL:PT1H
BEGIN:VTIMEZONE
TZID:America/New_York
BEGIN:DAYLIGHT
TZOFFSETFROM:-0500
TZOFFSETTO:-0400
TZNAME:EDT
DTSTART:20250309T070000
END:DAYLIGHT
BEGIN:STANDARD
TZOFFSETFROM:-0400
TZOFFSETTO:-0500
TZNAME:EST
DTSTART:20251102T060000
END:STANDARD
BEGIN:DAYLIGHT
TZOFFSETFROM:-0500
TZOFFSETTO:-0400
TZNAME:EDT
DTSTART:20260308T070000
END:DAYLIGHT
BEGIN:STANDARD
TZOFFSETFROM:-0400
TZOFFSETTO:-0500
TZNAME:EST
DTSTART:20261101T060000
END:STANDARD
BEGIN:DAYLIGHT
TZOFFSETFROM:-0500
TZOFFSETTO:-0400
TZNAME:EDT
DTSTART:20270314T070000
END:DAYLIGHT
BEGIN:STANDARD
TZOFFSETFROM:-0400
TZOFFSETTO:-0500
TZNAME:EST
DTSTART:20271107T060000
END:STANDARD
END:VTIMEZONE
BEGIN:VEVENT
DTSTART;TZID=America/New_York:20260428T140000
DTEND;TZID=America/New_York:20260428T150000
DTSTAMP:20260421T100707
CREATED:20260420T215719Z
LAST-MODIFIED:20260420T221035Z
UID:19613-1777384800-1777388400@newburynhlibrary.net
SUMMARY:Fairy & Dragon Jars
DESCRIPTION:Join us at the library to make fairy and dragon jars! This fun craft is free for all ages and all materials are provided! \nSign-up is required as space is limited.
URL:https://newburynhlibrary.net/event/fairy-dragon-jars/
LOCATION:Newbury Library\, 933 Route 103\, Newbury\, NH\, 03255\, United States
CATEGORIES:Craft
ATTACH;FMTTYPE=image/png:https://newburynhlibrary.net/wp-content/uploads/2026/04/Fairy-Jars-Tuesday-April-28th-2pm-Instagram-Post-1.png
END:VEVENT
END:VCALENDAR