BEGIN:VCALENDAR
VERSION:2.0
PRODID:-//Newbury Public Library (NH) - ECPv6.15.20//NONSGML v1.0//EN
CALSCALE:GREGORIAN
METHOD:PUBLISH
X-ORIGINAL-URL:https://newburynhlibrary.net
X-WR-CALDESC:Events for Newbury Public Library (NH)
REFRESH-INTERVAL;VALUE=DURATION:PT1H
X-Robots-Tag:noindex
X-PUBLISHED-TTL:PT1H
BEGIN:VTIMEZONE
TZID:America/New_York
BEGIN:DAYLIGHT
TZOFFSETFROM:-0500
TZOFFSETTO:-0400
TZNAME:EDT
DTSTART:20250309T070000
END:DAYLIGHT
BEGIN:STANDARD
TZOFFSETFROM:-0400
TZOFFSETTO:-0500
TZNAME:EST
DTSTART:20251102T060000
END:STANDARD
BEGIN:DAYLIGHT
TZOFFSETFROM:-0500
TZOFFSETTO:-0400
TZNAME:EDT
DTSTART:20260308T070000
END:DAYLIGHT
BEGIN:STANDARD
TZOFFSETFROM:-0400
TZOFFSETTO:-0500
TZNAME:EST
DTSTART:20261101T060000
END:STANDARD
BEGIN:DAYLIGHT
TZOFFSETFROM:-0500
TZOFFSETTO:-0400
TZNAME:EDT
DTSTART:20270314T070000
END:DAYLIGHT
BEGIN:STANDARD
TZOFFSETFROM:-0400
TZOFFSETTO:-0500
TZNAME:EST
DTSTART:20271107T060000
END:STANDARD
END:VTIMEZONE
BEGIN:VEVENT
DTSTART;TZID=America/New_York:20260624T190000
DTEND;TZID=America/New_York:20260624T190000
DTSTAMP:20260425T142101
CREATED:20260331T171914Z
LAST-MODIFIED:20260420T220934Z
UID:19544-1782327600-1782327600@newburynhlibrary.net
SUMMARY:Abigail Adams – Liberty & Legacy
DESCRIPTION:At Center Meeting House- part of the Center Meeting House/Newbury Library joint Speaker Series. Blending live performance\, immersive multimedia\, and original music and visual design\, Liberty and Legacy reintroduces Abigail Adams not simply as a founder’s wife\, but as a fearless political thinker\, advocate for women’s rights\, and moral compass during the American Revolution and the birth of a nation. The new production expands upon earlier interpretations with richer visuals and a more dynamic theatrical experience. \nThrough Adams’ own letters and writings—paired with contemporary staging and technology—the show invites audiences to experience her enduring relevance in conversations about liberty\, equality\, leadership\, and civic responsibility. \nPresented by Sheryl Faye.
URL:https://newburynhlibrary.net/event/abigail-adams-liberty-legacy/
LOCATION:Newbury Center Meeting House
CATEGORIES:Adult
ATTACH;FMTTYPE=image/jpeg:https://newburynhlibrary.net/wp-content/uploads/2026/03/abigail-adams-liberty-legacy.jpg
END:VEVENT
END:VCALENDAR