BEGIN:VCALENDAR
VERSION:2.0
PRODID:-//Newbury Public Library (NH) - ECPv6.15.20//NONSGML v1.0//EN
CALSCALE:GREGORIAN
METHOD:PUBLISH
X-ORIGINAL-URL:https://newburynhlibrary.net
X-WR-CALDESC:Events for Newbury Public Library (NH)
REFRESH-INTERVAL;VALUE=DURATION:PT1H
X-Robots-Tag:noindex
X-PUBLISHED-TTL:PT1H
BEGIN:VTIMEZONE
TZID:America/New_York
BEGIN:DAYLIGHT
TZOFFSETFROM:-0500
TZOFFSETTO:-0400
TZNAME:EDT
DTSTART:20240310T070000
END:DAYLIGHT
BEGIN:STANDARD
TZOFFSETFROM:-0400
TZOFFSETTO:-0500
TZNAME:EST
DTSTART:20241103T060000
END:STANDARD
BEGIN:DAYLIGHT
TZOFFSETFROM:-0500
TZOFFSETTO:-0400
TZNAME:EDT
DTSTART:20250309T070000
END:DAYLIGHT
BEGIN:STANDARD
TZOFFSETFROM:-0400
TZOFFSETTO:-0500
TZNAME:EST
DTSTART:20251102T060000
END:STANDARD
BEGIN:DAYLIGHT
TZOFFSETFROM:-0500
TZOFFSETTO:-0400
TZNAME:EDT
DTSTART:20260308T070000
END:DAYLIGHT
BEGIN:STANDARD
TZOFFSETFROM:-0400
TZOFFSETTO:-0500
TZNAME:EST
DTSTART:20261101T060000
END:STANDARD
END:VTIMEZONE
BEGIN:VEVENT
DTSTART;TZID=America/New_York:20251202T153000
DTEND;TZID=America/New_York:20251202T170000
DTSTAMP:20260421T072832
CREATED:20251102T191724Z
LAST-MODIFIED:20251102T191724Z
UID:19016-1764689400-1764694800@newburynhlibrary.net
SUMMARY:After-school Ornament Making for Grades 1-5
DESCRIPTION:Make an ornament for yourself\, & make additional ornaments for us to give to those in need. \n\nBus will drop off at library and parents must make arrangement with school. \n\nSign-up at the library or call 603-763-5803
URL:https://newburynhlibrary.net/event/after-school-ornament-making-for-grades-1-5/
LOCATION:NH
ATTACH;FMTTYPE=image/png:https://newburynhlibrary.net/wp-content/uploads/2025/11/Red-Simple-Christmas-Border-A4.png
END:VEVENT
END:VCALENDAR