BEGIN:VCALENDAR
VERSION:2.0
PRODID:-//Newbury Public Library (NH) - ECPv6.15.20//NONSGML v1.0//EN
CALSCALE:GREGORIAN
METHOD:PUBLISH
X-WR-CALNAME:Newbury Public Library (NH)
X-ORIGINAL-URL:https://newburynhlibrary.net
X-WR-CALDESC:Events for Newbury Public Library (NH)
REFRESH-INTERVAL;VALUE=DURATION:PT1H
X-Robots-Tag:noindex
X-PUBLISHED-TTL:PT1H
BEGIN:VTIMEZONE
TZID:America/New_York
BEGIN:DAYLIGHT
TZOFFSETFROM:-0500
TZOFFSETTO:-0400
TZNAME:EDT
DTSTART:20240310T070000
END:DAYLIGHT
BEGIN:STANDARD
TZOFFSETFROM:-0400
TZOFFSETTO:-0500
TZNAME:EST
DTSTART:20241103T060000
END:STANDARD
BEGIN:DAYLIGHT
TZOFFSETFROM:-0500
TZOFFSETTO:-0400
TZNAME:EDT
DTSTART:20250309T070000
END:DAYLIGHT
BEGIN:STANDARD
TZOFFSETFROM:-0400
TZOFFSETTO:-0500
TZNAME:EST
DTSTART:20251102T060000
END:STANDARD
BEGIN:DAYLIGHT
TZOFFSETFROM:-0500
TZOFFSETTO:-0400
TZNAME:EDT
DTSTART:20260308T070000
END:DAYLIGHT
BEGIN:STANDARD
TZOFFSETFROM:-0400
TZOFFSETTO:-0500
TZNAME:EST
DTSTART:20261101T060000
END:STANDARD
END:VTIMEZONE
BEGIN:VEVENT
DTSTART;TZID=America/New_York:20251029T150000
DTEND;TZID=America/New_York:20251029T163000
DTSTAMP:20260421T071200
CREATED:20250826T194413Z
LAST-MODIFIED:20250923T153103Z
UID:18571-1761750000-1761755400@newburynhlibrary.net
SUMMARY:Pop-Up Grocery Store and Cooking Demo with NH Food Pantry
DESCRIPTION:Want to learn about: healthy eating\, cooking skills\, food budgeting\, meal planning\, nutrition\, and more? Join us for a FREE workshop with NH Food Bank on October 29th at 3pm! Participants receive a FREE $10 grocery store gift card!* *Please note: Attendees receive a free $10 grocery store gift card for attending the workshop. Participants must register and attend the event to qualify for this benefit. \nSign up here: \nbit.ly/newburyCM
URL:https://newburynhlibrary.net/event/pop-up-grocery-store-and-cooking-demo-with-nh-food-pantry/
LOCATION:NH
ATTACH;FMTTYPE=image/png:https://newburynhlibrary.net/wp-content/uploads/2025/08/Grocery-Store-Pop-Up.png
END:VEVENT
END:VCALENDAR