BEGIN:VCALENDAR
VERSION:2.0
PRODID:-//Newbury Public Library (NH) - ECPv6.15.20//NONSGML v1.0//EN
CALSCALE:GREGORIAN
METHOD:PUBLISH
X-WR-CALNAME:Newbury Public Library (NH)
X-ORIGINAL-URL:https://newburynhlibrary.net
X-WR-CALDESC:Events for Newbury Public Library (NH)
REFRESH-INTERVAL;VALUE=DURATION:PT1H
X-Robots-Tag:noindex
X-PUBLISHED-TTL:PT1H
BEGIN:VTIMEZONE
TZID:America/New_York
BEGIN:DAYLIGHT
TZOFFSETFROM:-0500
TZOFFSETTO:-0400
TZNAME:EDT
DTSTART:20240310T070000
END:DAYLIGHT
BEGIN:STANDARD
TZOFFSETFROM:-0400
TZOFFSETTO:-0500
TZNAME:EST
DTSTART:20241103T060000
END:STANDARD
BEGIN:DAYLIGHT
TZOFFSETFROM:-0500
TZOFFSETTO:-0400
TZNAME:EDT
DTSTART:20250309T070000
END:DAYLIGHT
BEGIN:STANDARD
TZOFFSETFROM:-0400
TZOFFSETTO:-0500
TZNAME:EST
DTSTART:20251102T060000
END:STANDARD
BEGIN:DAYLIGHT
TZOFFSETFROM:-0500
TZOFFSETTO:-0400
TZNAME:EDT
DTSTART:20260308T070000
END:DAYLIGHT
BEGIN:STANDARD
TZOFFSETFROM:-0400
TZOFFSETTO:-0500
TZNAME:EST
DTSTART:20261101T060000
END:STANDARD
END:VTIMEZONE
BEGIN:VEVENT
DTSTART;TZID=America/New_York:20251005T130000
DTEND;TZID=America/New_York:20251005T140000
DTSTAMP:20260421T085432
CREATED:20250831T205809Z
LAST-MODIFIED:20250903T153942Z
UID:18608-1759669200-1759672800@newburynhlibrary.net
SUMMARY:YOGA: Six Week Workshop
DESCRIPTION:Sign-up required! \nJoin Melodie Swanson for a six-week yoga workshop and explore three different styles of yoga! Melodie is completing her 200hr YTT- she believes Yoga is the practice of coming home to yourself. \nThrough gentle guidance\, grounding breath work and mindful flows\, she helps students cultivate balance\, resilience and self awareness. Melodie is passionate about making yoga accessible to every BODY and every stage of life. \nAll levels and beginner friendly \nSlow Deep Stretch – Week 1 & 2- 9/21 & 9/28 \nA deeply restorative practice that focuses on longer holds and total body stretches. This session provides a calm and relaxing space to let go of tension\, focus on the the breath and let your stress fall away. \nSlow Flow- Week 3 & 4- 10/5 & 10/19 \nThis session is about allowing you time to become aware of your body while creating a deeper connection to your breath. Explore the subtleties of both effort and ease as you learn to move more mindfully. \nGentle Yoga- Week 5 & 6-10/26 & 11/2 \nA less intense style of yoga that is suitable for all levels and ages. It is designed to be accessible for every BODY\, while being nurturing and helping to improve flexibility and ROM (range of motion)
URL:https://newburynhlibrary.net/event/yoga-six-week-workshop-3/
LOCATION:NH
ATTACH;FMTTYPE=image/png:https://newburynhlibrary.net/wp-content/uploads/2025/08/YOGA-Instagram-Post-1.png
END:VEVENT
BEGIN:VEVENT
DTSTART;TZID=America/New_York:20251005T150000
DTEND;TZID=America/New_York:20251005T163000
DTSTAMP:20260421T085432
CREATED:20250828T161647Z
LAST-MODIFIED:20250828T183148Z
UID:18585-1759676400-1759681800@newburynhlibrary.net
SUMMARY:Teen Cupcake Decorating Class with Cake Mama LLC
DESCRIPTION:Sign-up for our Teen Cupcake Decorating Workshop! Space is limited and sign-up is required for the workshop\, held on Sunday October 5th at 3pm\, with Cake Mama LLC! We will be makingseveral Fall and Halloween cupcakes. Call us\, email or visit the library to sign-up.
URL:https://newburynhlibrary.net/event/teen-cupcake-decorating-class-with-cake-mama-llc/
LOCATION:Newbury Library\, 933 Route 103\, Newbury\, NH\, 03255\, United States
ATTACH;FMTTYPE=image/png:https://newburynhlibrary.net/wp-content/uploads/2025/08/Teen-Cupcake-Instagram-Post.png
END:VEVENT
END:VCALENDAR